BEGIN:VCALENDAR
VERSION:2.0
PRODID:icalendar-ruby
CALSCALE:GREGORIAN
METHOD:PUBLISH
BEGIN:VEVENT
DTSTAMP:20260424T214959Z
UID:10-708512@harvestchurchminden.org
DTSTART:20261013T150000Z
DTEND:20261013T160000Z
CLASS:PUBLIC
CREATED:20260424T154611
DESCRIPTION:
LAST-MODIFIED:20260424T154611
LOCATION:Harvest Church
SUMMARY:Ladies' Morning Bible Study
URL;VALUE=URI:https://harvestchurchminden.org/events/ladies-morning-bible-s
 tudy/2026-10-13
ATTACH;FILENAME=mJoK.jpg;FMTTYPE=image/jpeg:https://dq5pwpg1q8ru0.cloudfron
 t.net/2024/08/26/18/47/57/e18d30f1-c30e-4186-a553-887df39dca39/mJoK.jpg
END:VEVENT
END:VCALENDAR
