BEGIN:VCALENDAR
VERSION:2.0
PRODID:icalendar-ruby
CALSCALE:GREGORIAN
METHOD:PUBLISH
BEGIN:VEVENT
DTSTAMP:20260425T032345Z
UID:10-709493@harvestchurchminden.org
DTSTART:20261103T160000Z
DTEND:20261103T170000Z
CLASS:PUBLIC
CREATED:20260424T212327
DESCRIPTION:
LAST-MODIFIED:20260424T212327
LOCATION:Harvest Church
SUMMARY:Ladies' Morning Bible Study
URL;VALUE=URI:https://harvestchurchminden.org/events/ladies-morning-bible-s
 tudy/2026-11-03
ATTACH;FILENAME=mJoK.jpg;FMTTYPE=image/jpeg:https://dq5pwpg1q8ru0.cloudfron
 t.net/2024/08/26/18/47/57/e18d30f1-c30e-4186-a553-887df39dca39/mJoK.jpg
END:VEVENT
END:VCALENDAR
