BEGIN:VCALENDAR
VERSION:2.0
PRODID:icalendar-ruby
CALSCALE:GREGORIAN
METHOD:PUBLISH
BEGIN:VEVENT
DTSTAMP:20260421T153722Z
UID:11-698809@harvestchurchminden.org
DTSTART:20261028T233000Z
DTEND:20261029T003000Z
CLASS:PUBLIC
CREATED:20260421T093919
DESCRIPTION:
LAST-MODIFIED:20260421T093919
LOCATION:Mike Pettit's
SUMMARY:Mens' Evening Bible Study
URL;VALUE=URI:https://harvestchurchminden.org/events/mens-evening-bible-stu
 dy/2026-10-28
ATTACH;FILENAME=Office-meeting---2048x1366.jpg;FMTTYPE=image/jpeg:https://d
 q5pwpg1q8ru0.cloudfront.net/2024/08/26/18/50/52/d62de89c-4fd9-40a9-bcb7-73
 2b0d57108b/Office-meeting---2048x1366.jpg
END:VEVENT
END:VCALENDAR
