BEGIN:VCALENDAR
VERSION:2.0
PRODID:icalendar-ruby
CALSCALE:GREGORIAN
METHOD:PUBLISH
BEGIN:VEVENT
DTSTAMP:20260424T213256Z
UID:9-708458@harvestchurchminden.org
DTSTART:20261025T143000Z
DTEND:20261025T153000Z
CLASS:PUBLIC
CREATED:20260424T154611
DESCRIPTION:Sunday School for both children and adults.
LAST-MODIFIED:20260424T154611
LOCATION:
SUMMARY:Sunday School
URL;VALUE=URI:https://harvestchurchminden.org/events/sunday-school/2026-10-
 25
ATTACH;FILENAME=x1Dh.jpg;FMTTYPE=image/jpeg:https://dq5pwpg1q8ru0.cloudfron
 t.net/2024/08/18/20/46/40/28e1f39d-e137-47d8-be26-f0d8c5a4eb44/x1Dh.jpg
END:VEVENT
END:VCALENDAR
